BEGIN:VCALENDAR
VERSION:2.0
PRODID:-//科学読物研究会｜Japanese Society of Science Books for Children - ECPv5.2.0//NONSGML v1.0//EN
CALSCALE:GREGORIAN
METHOD:PUBLISH
X-WR-CALNAME:科学読物研究会｜Japanese Society of Science Books for Children
X-ORIGINAL-URL:http://kagakuyomimono.net
X-WR-CALDESC:科学読物研究会｜Japanese Society of Science Books for Children のイベント
BEGIN:VTIMEZONE
TZID:Asia/Tokyo
BEGIN:STANDARD
TZOFFSETFROM:+0900
TZOFFSETTO:+0900
TZNAME:JST
DTSTART:20220101T000000
END:STANDARD
END:VTIMEZONE
BEGIN:VEVENT
DTSTART;TZID=Asia/Tokyo:20220719T100000
DTEND;TZID=Asia/Tokyo:20220719T120000
DTSTAMP:20260424T123151
CREATED:20220605T123159Z
LAST-MODIFIED:20220605T123201Z
UID:2861-1658224800-1658232000@kagakuyomimono.net
SUMMARY:くらべ読みの会（７月）
DESCRIPTION:くらべ読みの会（７月） \n\n\n\n日時：７月19日（火）10：00～12：00 \n\n\n\n場所：オンライン開催 \n\n\n\n内容：少年写真新聞社の「少年写真絵本シリーズ」を読む　４回目 \n\n\n\n問い合わせ：詳細は会報６月号をご確認ください。　
URL:http://kagakuyomimono.net/event/%e3%81%8f%e3%82%89%e3%81%b9%e8%aa%ad%e3%81%bf%e3%81%ae%e4%bc%9a%ef%bc%88%ef%bc%97%e6%9c%88%ef%bc%89-2
END:VEVENT
END:VCALENDAR