BEGIN:VCALENDAR
VERSION:2.0
PRODID:-//科学読物研究会｜Japanese Society of Science Books for Children - ECPv5.2.0//NONSGML v1.0//EN
CALSCALE:GREGORIAN
METHOD:PUBLISH
X-WR-CALNAME:科学読物研究会｜Japanese Society of Science Books for Children
X-ORIGINAL-URL:http://kagakuyomimono.net
X-WR-CALDESC:科学読物研究会｜Japanese Society of Science Books for Children のイベント
BEGIN:VTIMEZONE
TZID:Asia/Tokyo
BEGIN:STANDARD
TZOFFSETFROM:+0900
TZOFFSETTO:+0900
TZNAME:JST
DTSTART:20220101T000000
END:STANDARD
END:VTIMEZONE
BEGIN:VEVENT
DTSTART;TZID=Asia/Tokyo:20221018T100000
DTEND;TZID=Asia/Tokyo:20221018T120000
DTSTAMP:20260424T123708
CREATED:20220815T124513Z
LAST-MODIFIED:20220815T124514Z
UID:3033-1666087200-1666094400@kagakuyomimono.net
SUMMARY:くらべ読みの会（10月）
DESCRIPTION:くらべ読みの会（10月） \n\n\n\n日時：10月18日（火）10：00～12：00 \n\n\n\n場所：オンライン \n\n\n\n内容：「多田多恵子さんの本を読む」１回目 \n\n\n\n問い合わせ：詳細は会報８・９月号をご確認ください。　
URL:http://kagakuyomimono.net/event/%e3%81%8f%e3%82%89%e3%81%b9%e8%aa%ad%e3%81%bf%e3%81%ae%e4%bc%9a%ef%bc%8810%e6%9c%88%ef%bc%89-2
END:VEVENT
END:VCALENDAR