BEGIN:VCALENDAR
VERSION:2.0
PRODID:-//科学読物研究会｜Japanese Society of Science Books for Children - ECPv5.2.0//NONSGML v1.0//EN
CALSCALE:GREGORIAN
METHOD:PUBLISH
X-WR-CALNAME:科学読物研究会｜Japanese Society of Science Books for Children
X-ORIGINAL-URL:http://kagakuyomimono.net
X-WR-CALDESC:科学読物研究会｜Japanese Society of Science Books for Children のイベント
BEGIN:VTIMEZONE
TZID:Asia/Tokyo
BEGIN:STANDARD
TZOFFSETFROM:+0900
TZOFFSETTO:+0900
TZNAME:JST
DTSTART:20250101T000000
END:STANDARD
END:VTIMEZONE
BEGIN:VEVENT
DTSTART;TZID=Asia/Tokyo:20251118T100000
DTEND;TZID=Asia/Tokyo:20251118T120000
DTSTAMP:20260423T104020
CREATED:20251009T043634Z
LAST-MODIFIED:20251106T114057Z
UID:5090-1763460000-1763467200@kagakuyomimono.net
SUMMARY:くらべ読みの会（11月）
DESCRIPTION:くらべ読みの会（11月） \n\n\n\n日時：11月18日（火）10：00～12：00 \n\n\n\n場所：オンライン \n\n\n\n内容：「たくさんのふしぎ傑作集」を読む \n\n\n\n問い合わせ：会報11月号をご確認ください。
URL:http://kagakuyomimono.net/event/%e3%81%8f%e3%82%89%e3%81%b9%e8%aa%ad%e3%81%bf%e3%81%ae%e4%bc%9a%ef%bc%8811%e6%9c%88%ef%bc%89-6
END:VEVENT
END:VCALENDAR