BEGIN:VCALENDAR
VERSION:2.0
PRODID:-//科学読物研究会｜Japanese Society of Science Books for Children - ECPv5.2.0//NONSGML v1.0//EN
CALSCALE:GREGORIAN
METHOD:PUBLISH
X-WR-CALNAME:科学読物研究会｜Japanese Society of Science Books for Children
X-ORIGINAL-URL:http://kagakuyomimono.net
X-WR-CALDESC:科学読物研究会｜Japanese Society of Science Books for Children のイベント
BEGIN:VTIMEZONE
TZID:Asia/Tokyo
BEGIN:STANDARD
TZOFFSETFROM:+0900
TZOFFSETTO:+0900
TZNAME:JST
DTSTART:20230101T000000
END:STANDARD
END:VTIMEZONE
BEGIN:VEVENT
DTSTART;TZID=Asia/Tokyo:20230314T140000
DTEND;TZID=Asia/Tokyo:20230314T160000
DTSTAMP:20260424T180452
CREATED:20230305T074554Z
LAST-MODIFIED:20230305T074555Z
UID:3504-1678802400-1678809600@kagakuyomimono.net
SUMMARY:オーロラの会（３月）
DESCRIPTION:オーロラの会（３月） \n\n\n\n日時：3月14日（火）14：00～16：00 \n\n\n\n3月は第3週が祝日のため、いつもと違い第2週の14日です。 \n\n\n\n場所：オンライン（Zoom） \n\n\n\n読む本：『SDGsは地理で学べ』＜ちくまプリマー新書＞宇野仙／著 2022.10　　地球と人類について考える地理だからこそ環境問題だけでなく、人権、貧困、経済成長…つまりSDGsの全てが学べる、と著者はいいます。 \n\n\n\n問い合わせ・申し込み：会報３月号をご確認ください。
URL:http://kagakuyomimono.net/event/%e3%82%aa%e3%83%bc%e3%83%ad%e3%83%a9%e3%81%ae%e4%bc%9a%ef%bc%88%ef%bc%93%e6%9c%88%ef%bc%89-2
END:VEVENT
END:VCALENDAR