BEGIN:VCALENDAR
VERSION:2.0
PRODID:-//科学読物研究会｜Japanese Society of Science Books for Children - ECPv5.2.0//NONSGML v1.0//EN
CALSCALE:GREGORIAN
METHOD:PUBLISH
X-WR-CALNAME:科学読物研究会｜Japanese Society of Science Books for Children
X-ORIGINAL-URL:http://kagakuyomimono.net
X-WR-CALDESC:科学読物研究会｜Japanese Society of Science Books for Children のイベント
BEGIN:VTIMEZONE
TZID:Asia/Tokyo
BEGIN:STANDARD
TZOFFSETFROM:+0900
TZOFFSETTO:+0900
TZNAME:JST
DTSTART:20220101T000000
END:STANDARD
END:VTIMEZONE
BEGIN:VEVENT
DTSTART;TZID=Asia/Tokyo:20220315T140000
DTEND;TZID=Asia/Tokyo:20220315T160000
DTSTAMP:20260424T220532
CREATED:20220306T090621Z
LAST-MODIFIED:20220306T090623Z
UID:2707-1647352800-1647360000@kagakuyomimono.net
SUMMARY:オーロラの会（３月）
DESCRIPTION:オーロラの会（３月） \n\n\n\n日時：３月15日（火）14：00～16：00 \n\n\n\n場所：オンライン開催（ZOOM） \n\n\n\n読む本：『クジラの骨と僕らの未来』＜世界をカエル　10代からの羅針盤＞中村玄／著　理論社　2021.7 \n\n\n\n問い合わせ：申し込み先：会報３月号をご確認ください。※必ずお申し込みください
URL:http://kagakuyomimono.net/event/%e3%82%aa%e3%83%bc%e3%83%ad%e3%83%a9%e3%81%ae%e4%bc%9a%ef%bc%88%ef%bc%93%e6%9c%88%ef%bc%89
END:VEVENT
END:VCALENDAR