BEGIN:VCALENDAR
VERSION:2.0
PRODID:-//科学読物研究会｜Japanese Society of Science Books for Children - ECPv5.2.0//NONSGML v1.0//EN
CALSCALE:GREGORIAN
METHOD:PUBLISH
X-WR-CALNAME:科学読物研究会｜Japanese Society of Science Books for Children
X-ORIGINAL-URL:http://kagakuyomimono.net
X-WR-CALDESC:科学読物研究会｜Japanese Society of Science Books for Children のイベント
BEGIN:VTIMEZONE
TZID:Asia/Tokyo
BEGIN:STANDARD
TZOFFSETFROM:+0900
TZOFFSETTO:+0900
TZNAME:JST
DTSTART:20220101T000000
END:STANDARD
END:VTIMEZONE
BEGIN:VEVENT
DTSTART;TZID=Asia/Tokyo:20220517T140000
DTEND;TZID=Asia/Tokyo:20220517T160000
DTSTAMP:20260424T070732
CREATED:20220405T131356Z
LAST-MODIFIED:20220405T131359Z
UID:2750-1652796000-1652803200@kagakuyomimono.net
SUMMARY:オーロラの会（５月）
DESCRIPTION:日時：５月17日（火）14：00～16：00 \n\n\n\n場所：オンライン開催（ZOOM） \n\n\n\n読む本：『牧野富太郎－日本植物学の父－』＜はじめて読む科学者の伝記＞清水洋美／文　里美和彦／絵　汐文社  2020.7『牧野富太郎－植物の神様といわれた男－』横山充男／著　くもん出版　2022.1２冊の読み比べをします。 \n\n\n\n問い合わせ：申し込み先：会報４月号をご確認ください。※必ずお申し込みください
URL:http://kagakuyomimono.net/event/%e3%82%aa%e3%83%bc%e3%83%ad%e3%83%a9%e3%81%ae%e4%bc%9a%ef%bc%88%ef%bc%95%e6%9c%88%ef%bc%89
END:VEVENT
END:VCALENDAR