BEGIN:VCALENDAR
VERSION:2.0
PRODID:-//科学読物研究会｜Japanese Society of Science Books for Children - ECPv5.2.0//NONSGML v1.0//EN
CALSCALE:GREGORIAN
METHOD:PUBLISH
X-WR-CALNAME:科学読物研究会｜Japanese Society of Science Books for Children
X-ORIGINAL-URL:http://kagakuyomimono.net
X-WR-CALDESC:科学読物研究会｜Japanese Society of Science Books for Children のイベント
BEGIN:VTIMEZONE
TZID:Asia/Tokyo
BEGIN:STANDARD
TZOFFSETFROM:+0900
TZOFFSETTO:+0900
TZNAME:JST
DTSTART:20240101T000000
END:STANDARD
END:VTIMEZONE
BEGIN:VEVENT
DTSTART;TZID=Asia/Tokyo:20240716T140000
DTEND;TZID=Asia/Tokyo:20240716T160000
DTSTAMP:20260423T163618
CREATED:20240604T021906Z
LAST-MODIFIED:20240710T062126Z
UID:4218-1721138400-1721145600@kagakuyomimono.net
SUMMARY:オーロラの会（７月）
DESCRIPTION:オーロラの会（７月） \n\n\n\n日時：７月16日（火）14：00～16：00 \n\n\n\n場所：オンライン（Zoom） \n\n\n\n読む本：『ようこそ!富士山測候所へ  日本のてっぺんで科学の最前線に挑む』長谷川敦 著／旬報社／2023.10 \n\n\n\n富士山頂にある「富士山測候所」。100年以上前から気象観測が行われていましたが、人工衛星などの発達でその役割を終え、2004年に閉鎖されました。でも、今でも最前線で活躍する科学者たちが「ここでしかできない研究」を続けています。どんなことがわかったのでしょうか？ \n\n\n\n問い合わせ・申し込み：会報６月号をご確認ください。 事前申込が必要です。
URL:http://kagakuyomimono.net/event/%e3%82%aa%e3%83%bc%e3%83%ad%e3%83%a9%e3%81%ae%e4%bc%9a%ef%bc%88%ef%bc%97%e6%9c%88%ef%bc%89-3
END:VEVENT
END:VCALENDAR