BEGIN:VCALENDAR
VERSION:2.0
PRODID:-//科学読物研究会｜Japanese Society of Science Books for Children - ECPv5.2.0//NONSGML v1.0//EN
CALSCALE:GREGORIAN
METHOD:PUBLISH
X-WR-CALNAME:科学読物研究会｜Japanese Society of Science Books for Children
X-ORIGINAL-URL:http://kagakuyomimono.net
X-WR-CALDESC:科学読物研究会｜Japanese Society of Science Books for Children のイベント
BEGIN:VTIMEZONE
TZID:Asia/Tokyo
BEGIN:STANDARD
TZOFFSETFROM:+0900
TZOFFSETTO:+0900
TZNAME:JST
DTSTART:20240101T000000
END:STANDARD
END:VTIMEZONE
BEGIN:VEVENT
DTSTART;TZID=Asia/Tokyo:20240917T140000
DTEND;TZID=Asia/Tokyo:20240917T160000
DTSTAMP:20260423T163619
CREATED:20240814T022342Z
LAST-MODIFIED:20240910T054651Z
UID:4310-1726581600-1726588800@kagakuyomimono.net
SUMMARY:オーロラの会（９月）
DESCRIPTION:日時：９月17日（火）14：00～16：00 \n\n\n\n場所：オンライン（Zoom） \n\n\n\n読む本：『石は元素の案内人』＜たくさんのふしぎ傑作集＞田中陵二／文・写真　福音館書店 2024.1「光る石　北海道石　新鉱物Hokkaidoiteはっけん記」＜たくさんのふしぎ　８月号　通巻473号＞田中陵二／文・写真　福音館書店 \n\n\n\n著者は6月例会「石と色からたどる化学の道すじ」の講師で有機化学者の田中陵二さん。北海道石の発見者・命名者でもあります。 \n\n\n\n問い合わせ・申し込み：会報８・９月号をご確認ください。 事前申込が必要です。
URL:http://kagakuyomimono.net/event/%e3%82%aa%e3%83%bc%e3%83%ad%e3%83%a9%e3%81%ae%e4%bc%9a%ef%bc%88%ef%bc%99%e6%9c%88%ef%bc%89-3
END:VEVENT
END:VCALENDAR