BEGIN:VCALENDAR
VERSION:2.0
PRODID:-//科学読物研究会｜Japanese Society of Science Books for Children - ECPv5.2.0//NONSGML v1.0//EN
CALSCALE:GREGORIAN
METHOD:PUBLISH
X-WR-CALNAME:科学読物研究会｜Japanese Society of Science Books for Children
X-ORIGINAL-URL:http://kagakuyomimono.net
X-WR-CALDESC:科学読物研究会｜Japanese Society of Science Books for Children のイベント
BEGIN:VTIMEZONE
TZID:Asia/Tokyo
BEGIN:STANDARD
TZOFFSETFROM:+0900
TZOFFSETTO:+0900
TZNAME:JST
DTSTART:20220101T000000
END:STANDARD
END:VTIMEZONE
BEGIN:VEVENT
DTSTART;TZID=Asia/Tokyo:20220913T140000
DTEND;TZID=Asia/Tokyo:20220913T160000
DTSTAMP:20260424T111845
CREATED:20220815T125136Z
LAST-MODIFIED:20220904T055336Z
UID:3039-1663077600-1663084800@kagakuyomimono.net
SUMMARY:オーロラの会（９月）
DESCRIPTION:オーロラの会（９月） \n\n\n\n日時：９月13日（火）14：00～16：00 \n\n\n\n場所：オンライン開催（ZOOM） \n\n\n\n読む本：緑書房の＜日本のいきものビジュアルガイド＞シリーズの既刊書の中からお好みのもの。 \n\n\n\nこれまでに \n\n\n\n『はっけん！ニホンイシガメ』 \n\n\n\n『はっけん！ニホンヤモリ』 \n\n\n\n『はっけん！オオサンショウウオ』 \n\n\n\n『はっけん！オタマジャクシ』 \n\n\n\n『はっけん！ニホンアマガエル』 \n\n\n\n『はっけん！イモリ』が出ています。 \n\n\n\n問い合わせ：申し込み先：会報８・９月号をご確認ください。
URL:http://kagakuyomimono.net/event/%e3%82%aa%e3%83%bc%e3%83%ad%e3%83%a9%e3%81%ae%e4%bc%9a%ef%bc%88%ef%bc%99%e6%9c%88%ef%bc%89
END:VEVENT
END:VCALENDAR