BEGIN:VCALENDAR
VERSION:2.0
PRODID:-//科学読物研究会｜Japanese Society of Science Books for Children - ECPv5.2.0//NONSGML v1.0//EN
CALSCALE:GREGORIAN
METHOD:PUBLISH
X-WR-CALNAME:科学読物研究会｜Japanese Society of Science Books for Children
X-ORIGINAL-URL:http://kagakuyomimono.net
X-WR-CALDESC:科学読物研究会｜Japanese Society of Science Books for Children のイベント
BEGIN:VTIMEZONE
TZID:Asia/Tokyo
BEGIN:STANDARD
TZOFFSETFROM:+0900
TZOFFSETTO:+0900
TZNAME:JST
DTSTART:20230101T000000
END:STANDARD
END:VTIMEZONE
BEGIN:VEVENT
DTSTART;TZID=Asia/Tokyo:20230922T130000
DTEND;TZID=Asia/Tokyo:20230922T170000
DTSTAMP:20260424T111830
CREATED:20230803T142600Z
LAST-MODIFIED:20230810T010415Z
UID:3766-1695387600-1695402000@kagakuyomimono.net
SUMMARY:新刊研（９月）
DESCRIPTION:新刊研（９月） \n\n\n\n日時：９月22日（金）13：00～17：00 \n\n\n\n場所：国際子ども図書館 アーチ棟２階児童書研究資料室・テラス（上野） \n\n\n\n新型コロナウィルスの感染拡大状況によって中止になる場合があります。 \n\n\n\n問い合わせ：会報８・９月号をご確認ください。
URL:http://kagakuyomimono.net/event/%e6%96%b0%e5%88%8a%e7%a0%94%ef%bc%88%ef%bc%99%e6%9c%88%ef%bc%89-2
END:VEVENT
END:VCALENDAR