BEGIN:VCALENDAR
VERSION:2.0
PRODID:-//科学読物研究会｜Japanese Society of Science Books for Children - ECPv5.2.0//NONSGML v1.0//EN
CALSCALE:GREGORIAN
METHOD:PUBLISH
X-WR-CALNAME:科学読物研究会｜Japanese Society of Science Books for Children
X-ORIGINAL-URL:http://kagakuyomimono.net
X-WR-CALDESC:科学読物研究会｜Japanese Society of Science Books for Children のイベント
BEGIN:VTIMEZONE
TZID:Asia/Tokyo
BEGIN:STANDARD
TZOFFSETFROM:+0900
TZOFFSETTO:+0900
TZNAME:JST
DTSTART:20220101T000000
END:STANDARD
END:VTIMEZONE
BEGIN:VEVENT
DTSTART;TZID=Asia/Tokyo:20220422T170000
DTEND;TZID=Asia/Tokyo:20220422T200000
DTSTAMP:20260424T134316
CREATED:20220306T085727Z
LAST-MODIFIED:20220306T085730Z
UID:2703-1650646800-1650657600@kagakuyomimono.net
SUMMARY:新刊研（4月）
DESCRIPTION:新刊研（４月） \n\n\n\n日時：４月22日（金）17：00～20：00 \n\n\n\n場所：公益財団法人　図書館振興財団 \n\n\n\n新型コロナウィルスの感染拡大状況によって中止になる場合があります。 \n\n\n\n問い合わせ：会報３月号をご確認ください。　
URL:http://kagakuyomimono.net/event/%e6%96%b0%e5%88%8a%e7%a0%94%ef%bc%884%e6%9c%88%ef%bc%89
END:VEVENT
END:VCALENDAR