BEGIN:VCALENDAR
VERSION:2.0
PRODID:-//科学読物研究会｜Japanese Society of Science Books for Children - ECPv5.2.0//NONSGML v1.0//EN
CALSCALE:GREGORIAN
METHOD:PUBLISH
X-WR-CALNAME:科学読物研究会｜Japanese Society of Science Books for Children
X-ORIGINAL-URL:http://kagakuyomimono.net
X-WR-CALDESC:科学読物研究会｜Japanese Society of Science Books for Children のイベント
BEGIN:VTIMEZONE
TZID:Asia/Tokyo
BEGIN:STANDARD
TZOFFSETFROM:+0900
TZOFFSETTO:+0900
TZNAME:JST
DTSTART:20200101T000000
END:STANDARD
END:VTIMEZONE
BEGIN:VEVENT
DTSTART;TZID=Asia/Tokyo:20201023T170000
DTEND;TZID=Asia/Tokyo:20201023T200000
DTSTAMP:20260424T134011
CREATED:20201013T130024Z
LAST-MODIFIED:20201014T150203Z
UID:649-1603472400-1603483200@kagakuyomimono.net
SUMMARY:新刊研
DESCRIPTION:新刊研　10月23日（第４金曜日）17:00〜20:00\n\n\n\n場所は未定となりました。場所が決まらない場合、中止となります。 \n\n\n  \n 
URL:http://kagakuyomimono.net/event/%e6%96%b0%e5%88%8a%e7%a0%94
END:VEVENT
END:VCALENDAR