BEGIN:VCALENDAR
VERSION:2.0
PRODID:-//科学読物研究会｜Japanese Society of Science Books for Children - ECPv5.2.0//NONSGML v1.0//EN
CALSCALE:GREGORIAN
METHOD:PUBLISH
X-WR-CALNAME:科学読物研究会｜Japanese Society of Science Books for Children
X-ORIGINAL-URL:http://kagakuyomimono.net
X-WR-CALDESC:科学読物研究会｜Japanese Society of Science Books for Children のイベント
BEGIN:VTIMEZONE
TZID:Asia/Tokyo
BEGIN:STANDARD
TZOFFSETFROM:+0900
TZOFFSETTO:+0900
TZNAME:JST
DTSTART:20230101T000000
END:STANDARD
END:VTIMEZONE
BEGIN:VEVENT
DTSTART;TZID=Asia/Tokyo:20230123T100000
DTEND;TZID=Asia/Tokyo:20230123T120000
DTSTAMP:20260424T095503
CREATED:20221207T080331Z
LAST-MODIFIED:20221207T080334Z
UID:3392-1674468000-1674475200@kagakuyomimono.net
SUMMARY:科学あそび分科会（１月）
DESCRIPTION:科学あそび分科会（１月） \n\n\n\n日時：１月23日（月）　10：00～12：00 \n\n\n\n場所：保土ヶ谷市民活動センター（アワーズ）研修室　　　　　　相鉄線星川駅下車徒歩４分 \n\n\n\n内容：エコ工作を楽しもう \n\n\n\n持ち物：はさみ、セロハンテープ \n\n\n\n問い合わせ・申し込み先：会報12月号をご確認ください。 \n\n\n\n※必ず事前申し込みをお願いします。※新型コロナ感染状況などにより中止する場合があります。
URL:http://kagakuyomimono.net/event/%e7%a7%91%e5%ad%a6%e3%81%82%e3%81%9d%e3%81%b3%e5%88%86%e7%a7%91%e4%bc%9a%ef%bc%88%ef%bc%91%e6%9c%88%ef%bc%89-3
END:VEVENT
END:VCALENDAR