BEGIN:VCALENDAR
VERSION:2.0
PRODID:-//科学読物研究会｜Japanese Society of Science Books for Children - ECPv5.2.0//NONSGML v1.0//EN
CALSCALE:GREGORIAN
METHOD:PUBLISH
X-WR-CALNAME:科学読物研究会｜Japanese Society of Science Books for Children
X-ORIGINAL-URL:http://kagakuyomimono.net
X-WR-CALDESC:科学読物研究会｜Japanese Society of Science Books for Children のイベント
BEGIN:VTIMEZONE
TZID:Asia/Tokyo
BEGIN:STANDARD
TZOFFSETFROM:+0900
TZOFFSETTO:+0900
TZNAME:JST
DTSTART:20240101T000000
END:STANDARD
END:VTIMEZONE
BEGIN:VEVENT
DTSTART;TZID=Asia/Tokyo:20240527T100000
DTEND;TZID=Asia/Tokyo:20240527T120000
DTSTAMP:20260424T070603
CREATED:20240415T123806Z
LAST-MODIFIED:20240507T123401Z
UID:4131-1716804000-1716811200@kagakuyomimono.net
SUMMARY:科学あそび分科会（５月）
DESCRIPTION:科学あそび分科会（５月） \n\n\n\n日時：５月27日（月）　10：00～12：00 \n\n\n\n場所：西武池袋線大泉学園駅周辺 \n\n\n\n内容：雪は天からの手紙～雪の結晶と雪の結晶万華鏡を作ろう～ \n\n\n\n問い合わせ・申し込み先：会報５月号をご確認ください。※必ず、事前申込みをお願いします。
URL:http://kagakuyomimono.net/event/%e7%a7%91%e5%ad%a6%e3%81%82%e3%81%9d%e3%81%b3%e5%88%86%e7%a7%91%e4%bc%9a%ef%bc%88%ef%bc%95%e6%9c%88%ef%bc%89-4
END:VEVENT
END:VCALENDAR