BEGIN:VCALENDAR
VERSION:2.0
PRODID:-//科学読物研究会｜Japanese Society of Science Books for Children - ECPv5.2.0//NONSGML v1.0//EN
CALSCALE:GREGORIAN
METHOD:PUBLISH
X-WR-CALNAME:科学読物研究会｜Japanese Society of Science Books for Children
X-ORIGINAL-URL:http://kagakuyomimono.net
X-WR-CALDESC:科学読物研究会｜Japanese Society of Science Books for Children のイベント
BEGIN:VTIMEZONE
TZID:Asia/Tokyo
BEGIN:STANDARD
TZOFFSETFROM:+0900
TZOFFSETTO:+0900
TZNAME:JST
DTSTART:20220101T000000
END:STANDARD
END:VTIMEZONE
BEGIN:VEVENT
DTSTART;TZID=Asia/Tokyo:20220711T100000
DTEND;TZID=Asia/Tokyo:20220711T120000
DTSTAMP:20260424T134746
CREATED:20220605T122751Z
LAST-MODIFIED:20220605T122752Z
UID:2856-1657533600-1657540800@kagakuyomimono.net
SUMMARY:科学あそび分科会（７月）
DESCRIPTION:科学あそび分科会（７月） \n\n\n\n日時：７月11日（月）　10：00～11：30 \n\n\n\n場所：オンライン開催（ZOOM) \n\n\n\n内容：①アンモナイト化石のレプリカづくり　　　②スリットアニメであそぶ　　　③潜望鏡をつくろう \n\n\n\n定員：20人（予定） \n\n\n\n参加費（材料費＋送料）：郵便振り込みの場合は400円。　切手の場合は84円切手を５枚。 \n\n\n\n担当・申し込み先：会報６月号をご確認ください。６月下旬までに申し込みをお願いします。 \n\n\n\n※必ず申し込みをお願いします。　
URL:http://kagakuyomimono.net/event/%e7%a7%91%e5%ad%a6%e3%81%82%e3%81%9d%e3%81%b3%e5%88%86%e7%a7%91%e4%bc%9a%ef%bc%88%ef%bc%97%e6%9c%88%ef%bc%89-2
END:VEVENT
END:VCALENDAR