BEGIN:VCALENDAR
VERSION:2.0
PRODID:-//科学読物研究会｜Japanese Society of Science Books for Children - ECPv5.2.0//NONSGML v1.0//EN
CALSCALE:GREGORIAN
METHOD:PUBLISH
X-WR-CALNAME:科学読物研究会｜Japanese Society of Science Books for Children
X-ORIGINAL-URL:http://kagakuyomimono.net
X-WR-CALDESC:科学読物研究会｜Japanese Society of Science Books for Children のイベント
BEGIN:VTIMEZONE
TZID:Asia/Tokyo
BEGIN:STANDARD
TZOFFSETFROM:+0900
TZOFFSETTO:+0900
TZNAME:JST
DTSTART:20240101T000000
END:STANDARD
END:VTIMEZONE
BEGIN:VEVENT
DTSTART;TZID=Asia/Tokyo:20240708T100000
DTEND;TZID=Asia/Tokyo:20240708T113000
DTSTAMP:20260423T163509
CREATED:20240604T021627Z
LAST-MODIFIED:20240604T021628Z
UID:4216-1720432800-1720438200@kagakuyomimono.net
SUMMARY:科学あそび分科会（７月）
DESCRIPTION:科学あそび分科会（７月） \n\n\n\n日時：７月８日（月）　10：00～11：30 \n\n\n\n場所（開催方法）：オンライン（ZOOM) \n\n\n\n内容：おもちゃづくりの小工作紹介　　作って楽しむ科学マジック＆工作 \n\n\n\n定員：先着20人（予定）参加費：500円（材料費＋送料） \n\n\n\n問い合わせ・申し込み先：会報６月号をご確認ください。※必ず、事前申込みをお願いします。
URL:http://kagakuyomimono.net/event/%e7%a7%91%e5%ad%a6%e3%81%82%e3%81%9d%e3%81%b3%e5%88%86%e7%a7%91%e4%bc%9a%ef%bc%88%ef%bc%97%e6%9c%88%ef%bc%89-3
END:VEVENT
END:VCALENDAR