BEGIN:VCALENDAR
VERSION:2.0
PRODID:-//科学読物研究会｜Japanese Society of Science Books for Children - ECPv5.2.0//NONSGML v1.0//EN
CALSCALE:GREGORIAN
METHOD:PUBLISH
X-WR-CALNAME:科学読物研究会｜Japanese Society of Science Books for Children
X-ORIGINAL-URL:http://kagakuyomimono.net
X-WR-CALDESC:科学読物研究会｜Japanese Society of Science Books for Children のイベント
BEGIN:VTIMEZONE
TZID:Asia/Tokyo
BEGIN:STANDARD
TZOFFSETFROM:+0900
TZOFFSETTO:+0900
TZNAME:JST
DTSTART:20250101T000000
END:STANDARD
END:VTIMEZONE
BEGIN:VEVENT
DTSTART;TZID=Asia/Tokyo:20250707T100000
DTEND;TZID=Asia/Tokyo:20250707T120000
DTSTAMP:20260423T121745
CREATED:20250604T115222Z
LAST-MODIFIED:20250604T115223Z
UID:4887-1751882400-1751889600@kagakuyomimono.net
SUMMARY:科学あそび分科会（７月）
DESCRIPTION:科学あそび分科会（７月） \n\n\n\n日時：７月７日（月）　10：00～12：00 \n\n\n\n場所：オンライン（ZOOM） \n\n\n\n内容：光るおもちゃ・飛ぶおもちゃ＆算数マジック　他 \n\n\n\n材料費：500円 \n\n\n\n申し込み締め切り：６月23日まで（材料送付のため）　※詳細は会報６月号をご確認ください。
URL:http://kagakuyomimono.net/event/%e7%a7%91%e5%ad%a6%e3%81%82%e3%81%9d%e3%81%b3%e5%88%86%e7%a7%91%e4%bc%9a%ef%bc%88%ef%bc%97%e6%9c%88%ef%bc%89-4
END:VEVENT
END:VCALENDAR