BEGIN:VCALENDAR
VERSION:2.0
PRODID:-//科学読物研究会｜Japanese Society of Science Books for Children - ECPv5.2.0//NONSGML v1.0//EN
CALSCALE:GREGORIAN
METHOD:PUBLISH
X-WR-CALNAME:科学読物研究会｜Japanese Society of Science Books for Children
X-ORIGINAL-URL:http://kagakuyomimono.net
X-WR-CALDESC:科学読物研究会｜Japanese Society of Science Books for Children のイベント
BEGIN:VTIMEZONE
TZID:Asia/Tokyo
BEGIN:STANDARD
TZOFFSETFROM:+0900
TZOFFSETTO:+0900
TZNAME:JST
DTSTART:20220101T000000
END:STANDARD
END:VTIMEZONE
BEGIN:VEVENT
DTSTART;TZID=Asia/Tokyo:20220926T100000
DTEND;TZID=Asia/Tokyo:20220926T120000
DTSTAMP:20260424T123435
CREATED:20220717T114423Z
LAST-MODIFIED:20220717T114426Z
UID:2993-1664186400-1664193600@kagakuyomimono.net
SUMMARY:科学あそび分科会（９月）
DESCRIPTION:科学あそび分科会（９月） \n\n\n\n日時：９月26日（月）　10：00～12：00 \n\n\n\n場所：小金井学習センター \n\n\n\n内容：斎藤さんおすすめ手仕事ー「桟俵」藁で作る流し雛 \n\n\n\n定員：10人くらいまで \n\n\n\n申し込み先：会報７月号をご確認ください。８月下旬までに申し込みをお願いします。 \n\n\n\n※必ず申し込みをお願いします。※持ち物などは、参加申し込み者にお知らせします。※コロナウィルス感染状況により、中止する場合かあります。
URL:http://kagakuyomimono.net/event/%e7%a7%91%e5%ad%a6%e3%81%82%e3%81%9d%e3%81%b3%e5%88%86%e7%a7%91%e4%bc%9a%ef%bc%88%ef%bc%99%e6%9c%88%ef%bc%89
END:VEVENT
END:VCALENDAR