BEGIN:VCALENDAR
VERSION:2.0
PRODID:-//科学読物研究会｜Japanese Society of Science Books for Children - ECPv5.2.0//NONSGML v1.0//EN
CALSCALE:GREGORIAN
METHOD:PUBLISH
X-WR-CALNAME:科学読物研究会｜Japanese Society of Science Books for Children
X-ORIGINAL-URL:http://kagakuyomimono.net
X-WR-CALDESC:科学読物研究会｜Japanese Society of Science Books for Children のイベント
BEGIN:VTIMEZONE
TZID:Asia/Tokyo
BEGIN:STANDARD
TZOFFSETFROM:+0900
TZOFFSETTO:+0900
TZNAME:JST
DTSTART:20220101T000000
END:STANDARD
END:VTIMEZONE
BEGIN:VEVENT
DTSTART;TZID=Asia/Tokyo:20221024T100000
DTEND;TZID=Asia/Tokyo:20221024T120000
DTSTAMP:20260424T173117
CREATED:20220815T124155Z
LAST-MODIFIED:20221014T021345Z
UID:3031-1666605600-1666612800@kagakuyomimono.net
SUMMARY:科学あそび分科会（10月）
DESCRIPTION:科学あそび分科会（10月） \n\n\n\n日時：10月24日（月）　10：00～12：00 \n\n\n\n場所：小川様宅（田園都市線すずかけ台駅）   ※ZOOMでも参加可能です（必ず事前申し込みをお願いします） \n\n\n\n内容：プラスチックフリーライフ「蜜ろうラップを作る」 \n\n\n\n定員：10名（要予約） \n\n\n\n申し込み先：会報８・９月号をご確認ください。 \n\n\n\n※必ず申し込みをお願いします。※持ち物：15㎝～25㎝角程度の薄手の木綿の布
URL:http://kagakuyomimono.net/event/%e7%a7%91%e5%ad%a6%e3%81%82%e3%81%9d%e3%81%b3%e5%88%86%e7%a7%91%e4%bc%9a%ef%bc%8810%e6%9c%88%ef%bc%89-2
END:VEVENT
END:VCALENDAR