BEGIN:VCALENDAR
VERSION:2.0
PRODID:-//科学読物研究会｜Japanese Society of Science Books for Children - ECPv5.2.0//NONSGML v1.0//EN
CALSCALE:GREGORIAN
METHOD:PUBLISH
X-WR-CALNAME:科学読物研究会｜Japanese Society of Science Books for Children
X-ORIGINAL-URL:http://kagakuyomimono.net
X-WR-CALDESC:科学読物研究会｜Japanese Society of Science Books for Children のイベント
BEGIN:VTIMEZONE
TZID:Asia/Tokyo
BEGIN:STANDARD
TZOFFSETFROM:+0900
TZOFFSETTO:+0900
TZNAME:JST
DTSTART:20250101T000000
END:STANDARD
END:VTIMEZONE
BEGIN:VEVENT
DTSTART;TZID=Asia/Tokyo:20251117T100000
DTEND;TZID=Asia/Tokyo:20251117T120000
DTSTAMP:20260423T103924
CREATED:20251009T043945Z
LAST-MODIFIED:20251106T114307Z
UID:5093-1763373600-1763380800@kagakuyomimono.net
SUMMARY:科学あそび分科会（11月）
DESCRIPTION:科学あそび分科会（11月） \n\n\n\n日時：11月17日（月）　10：00～12：00 \n\n\n\n場所：IMAGINUS（イマジナス）JR高円寺駅北口から徒歩５分 \n\n\n\n内容：物理で遊ぼう \n\n\n\n必ず、事前に申し込みをしてください。※詳細は会報11月号をご確認ください。
URL:http://kagakuyomimono.net/event/%e7%a7%91%e5%ad%a6%e3%81%82%e3%81%9d%e3%81%b3%e5%88%86%e7%a7%91%e4%bc%9a%ef%bc%8811%e6%9c%88%ef%bc%89-6
END:VEVENT
END:VCALENDAR