BEGIN:VCALENDAR
VERSION:2.0
PRODID:-//科学読物研究会｜Japanese Society of Science Books for Children - ECPv5.2.0//NONSGML v1.0//EN
CALSCALE:GREGORIAN
METHOD:PUBLISH
X-WR-CALNAME:科学読物研究会｜Japanese Society of Science Books for Children
X-ORIGINAL-URL:http://kagakuyomimono.net
X-WR-CALDESC:科学読物研究会｜Japanese Society of Science Books for Children のイベント
BEGIN:VTIMEZONE
TZID:Asia/Tokyo
BEGIN:STANDARD
TZOFFSETFROM:+0900
TZOFFSETTO:+0900
TZNAME:JST
DTSTART:20200101T000000
END:STANDARD
END:VTIMEZONE
BEGIN:VEVENT
DTSTART;TZID=Asia/Tokyo:20201116T100000
DTEND;TZID=Asia/Tokyo:20201116T120000
DTSTAMP:20260424T134220
CREATED:20201109T124109Z
LAST-MODIFIED:20201223T043707Z
UID:1136-1605520800-1605528000@kagakuyomimono.net
SUMMARY:科学あそび分科会（11月）
DESCRIPTION:　　 \n\n\n\n科学あそび分科会（11月）\n\n\n\n日時：11月16日（月）10：00～12：00 \n\n\n\n場所：小金井学習センター \n\n\n\n内容：「パラパラ映画館をつくろう！」野呂さんに教えていただいた回転式のパラパラアニメです。 \n\n\n\n持ち物：はさみ、トイレットペーパーの芯 \n\n\n\n問い合わせ・申し込み：会報10月号・11月号をご確認ください。　若しくは、「お問い合わせ」のフォームに記入・送信ください。
URL:http://kagakuyomimono.net/event/%e7%a7%91%e5%ad%a6%e3%81%82%e3%81%9d%e3%81%b3%e5%88%86%e7%a7%91%e4%bc%9a%ef%bc%8811%e6%9c%88%ef%bc%89
END:VEVENT
END:VCALENDAR