BEGIN:VCALENDAR
VERSION:2.0
PRODID:-//科学読物研究会｜Japanese Society of Science Books for Children - ECPv5.2.0//NONSGML v1.0//EN
CALSCALE:GREGORIAN
METHOD:PUBLISH
X-WR-CALNAME:科学読物研究会｜Japanese Society of Science Books for Children
X-ORIGINAL-URL:http://kagakuyomimono.net
X-WR-CALDESC:科学読物研究会｜Japanese Society of Science Books for Children のイベント
BEGIN:VTIMEZONE
TZID:Asia/Tokyo
BEGIN:STANDARD
TZOFFSETFROM:+0900
TZOFFSETTO:+0900
TZNAME:JST
DTSTART:20250101T000000
END:STANDARD
END:VTIMEZONE
BEGIN:VEVENT
DTSTART;TZID=Asia/Tokyo:20250916T100000
DTEND;TZID=Asia/Tokyo:20250916T120000
DTSTAMP:20260423T180142
CREATED:20250712T075610Z
LAST-MODIFIED:20250801T080347Z
UID:4938-1758016800-1758024000@kagakuyomimono.net
SUMMARY:くらべ読みの会（９月）
DESCRIPTION:くらべ読みの会（９月） \n\n\n\n日時：９月16日（火）10：00～12：00 \n\n\n\n場所：オンライン \n\n\n\n内容：「たくさんのふしぎ傑作集」を読む \n\n\n\n問い合わせ：会報８・９月号をご確認ください。
URL:http://kagakuyomimono.net/event/%e3%81%8f%e3%82%89%e3%81%b9%e8%aa%ad%e3%81%bf%e3%81%ae%e4%bc%9a%ef%bc%88%ef%bc%99%e6%9c%88%ef%bc%89-3
END:VEVENT
BEGIN:VEVENT
DTSTART;TZID=Asia/Tokyo:20250916T140000
DTEND;TZID=Asia/Tokyo:20250916T160000
DTSTAMP:20260423T180142
CREATED:20250801T081229Z
LAST-MODIFIED:20250822T043711Z
UID:4975-1758031200-1758038400@kagakuyomimono.net
SUMMARY:オーロラの会（９月）
DESCRIPTION:日時：９月16日（火）14：00～16：00 \n\n\n\n場所：オンライン（Zoom） \n\n\n\n読む本：『万葉と令和をつなぐアキアカネ』山口 進／写真・文 岩崎書店 2020.9新潟県柏崎市に、絶滅が危惧されるアキアカネが大発生する田んぼがあります。その理由は米作りに？児童書としては山口進さん最後の作品ではないかと思います。 \n\n\n\n問い合わせ・申し込み：会報８・９月号をご確認ください。 事前申込が必要です。
URL:http://kagakuyomimono.net/event/%e3%82%aa%e3%83%bc%e3%83%ad%e3%83%a9%e3%81%ae%e4%bc%9a%ef%bc%88%ef%bc%99%e6%9c%88%ef%bc%89-4
END:VEVENT
BEGIN:VEVENT
DTSTART;TZID=Asia/Tokyo:20250922T100000
DTEND;TZID=Asia/Tokyo:20250922T120000
DTSTAMP:20260423T180142
CREATED:20250712T080020Z
LAST-MODIFIED:20250801T080548Z
UID:4940-1758535200-1758542400@kagakuyomimono.net
SUMMARY:科学あそび分科会（９月）
DESCRIPTION:科学あそび分科会（９月） \n\n\n\n日時：９月22日（月）　10：00～12：00 \n\n\n\n場所：小金井学習センター \n\n\n\n内容：パンフルート風ストロー笛を作ろう \n\n\n\n持ち物：マスキングテープ、はさみ \n\n\n\n必ず、事前に申し込みをしてください。※詳細は会報８・９月号をご確認ください。
URL:http://kagakuyomimono.net/event/%e7%a7%91%e5%ad%a6%e3%81%82%e3%81%9d%e3%81%b3%e5%88%86%e7%a7%91%e4%bc%9a%ef%bc%88%ef%bc%99%e6%9c%88%ef%bc%89-3
END:VEVENT
BEGIN:VEVENT
DTSTART;TZID=Asia/Tokyo:20250926T130000
DTEND;TZID=Asia/Tokyo:20250926T150000
DTSTAMP:20260423T180142
CREATED:20250712T075406Z
LAST-MODIFIED:20250801T080121Z
UID:4935-1758891600-1758898800@kagakuyomimono.net
SUMMARY:新刊研（９月）
DESCRIPTION:新刊研（９月） \n\n\n\n日時：９月26日（金）13：00～　 \n\n\n\n場所：国際子ども図書館児童書研究資料室 \n\n\n\n問い合わせ：会報８・９月号をご確認ください。
URL:http://kagakuyomimono.net/event/%e6%96%b0%e5%88%8a%e7%a0%94%ef%bc%88%ef%bc%99%e6%9c%88%ef%bc%89-4
END:VEVENT
END:VCALENDAR