BEGIN:VCALENDAR
VERSION:2.0
PRODID:-//科学読物研究会｜Japanese Society of Science Books for Children - ECPv5.2.0//NONSGML v1.0//EN
CALSCALE:GREGORIAN
METHOD:PUBLISH
X-WR-CALNAME:科学読物研究会｜Japanese Society of Science Books for Children
X-ORIGINAL-URL:http://kagakuyomimono.net
X-WR-CALDESC:科学読物研究会｜Japanese Society of Science Books for Children のイベント
BEGIN:VTIMEZONE
TZID:Asia/Tokyo
BEGIN:STANDARD
TZOFFSETFROM:+0900
TZOFFSETTO:+0900
TZNAME:JST
DTSTART:20260101T000000
END:STANDARD
END:VTIMEZONE
BEGIN:VEVENT
DTSTART;TZID=Asia/Tokyo:20260420T100000
DTEND;TZID=Asia/Tokyo:20260420T120000
DTSTAMP:20260423T103730
CREATED:20260310T124855Z
LAST-MODIFIED:20260408T124051Z
UID:5333-1776679200-1776686400@kagakuyomimono.net
SUMMARY:科学あそび分科会（４月）
DESCRIPTION:科学あそび分科会（４月） \n\n\n\n日時：４月20日（月）　10：00～12：00 \n\n\n\n場所：IMAGINUS（JR高円寺駅北口から徒歩５分） \n\n\n\n内容：対流の観察／手編みの科学 \n\n\n\n※持ち物などを参加者にお知らせしますので、必ず事前に申し込みをしてください。※手編みの経験は不要です。※詳細は会報４月号をご確認ください。
URL:http://kagakuyomimono.net/event/%e7%a7%91%e5%ad%a6%e3%81%82%e3%81%9d%e3%81%b3%e5%88%86%e7%a7%91%e4%bc%9a%ef%bc%88%ef%bc%94%e6%9c%88%ef%bc%89-6
END:VEVENT
BEGIN:VEVENT
DTSTART;TZID=Asia/Tokyo:20260421T100000
DTEND;TZID=Asia/Tokyo:20260421T120000
DTSTAMP:20260423T103730
CREATED:20260310T124330Z
LAST-MODIFIED:20260408T124020Z
UID:5330-1776765600-1776772800@kagakuyomimono.net
SUMMARY:くらべ読みの会（４月）
DESCRIPTION:くらべ読みの会（４月） \n\n\n\n日時：４月21日（火）10：00～12：00 \n\n\n\n場所：オンライン \n\n\n\n内容：＜ニュートン科学の学校シリーズ＞を読む　　　『化学の学校』桜井弘監修　ニュートンプレス 2025.12 \n\n\n\n問い合わせ：会報４月号をご確認ください。
URL:http://kagakuyomimono.net/event/%e3%81%8f%e3%82%89%e3%81%b9%e8%aa%ad%e3%81%bf%e3%81%ae%e4%bc%9a%ef%bc%88%ef%bc%94%e6%9c%88%ef%bc%89-6
END:VEVENT
BEGIN:VEVENT
DTSTART;TZID=Asia/Tokyo:20260424T130000
DTEND;TZID=Asia/Tokyo:20260424T150000
DTSTAMP:20260423T103730
CREATED:20260310T123907Z
LAST-MODIFIED:20260408T123942Z
UID:5327-1777035600-1777042800@kagakuyomimono.net
SUMMARY:新刊研（４月）
DESCRIPTION:新刊研（４月） \n\n\n\n日時：４月24日（金）13：00～　 \n\n\n\n場所：国際子ども図書館児童書研究資料室 \n\n\n\n問い合わせ：会報４月号をご確認ください。
URL:http://kagakuyomimono.net/event/%e6%96%b0%e5%88%8a%e7%a0%94%ef%bc%88%ef%bc%94%e6%9c%88%ef%bc%89-5
END:VEVENT
END:VCALENDAR